BEGIN:VCALENDAR
VERSION:2.0
PRODID:-//Intand Corporation//Tandem//EN
METHOD:PUBLISH
BEGIN:VEVENT
DTSTAMP:20260419T225453Z
DTSTART:20220222T223000Z
DTEND:20220223T000000Z
TRANSP:TRANSPARENT
PRIORITY:0
SUMMARY:Baseball\, Varsity La Cueva at Sandia
LOCATION:Sandia High
DESCRIPTION:Groups:\nLa Cueva High Baseball Boys Varsity\nSandia High Base
 ball Boys Varsity\n\nSchools:\nLa Cueva High\nSandia High\n\nLocation:\nSa
 ndia High\n\n
URL;VALUE=URI:http://vvhs.albuquerquenmus.tandem.co/index.php?type=view&ac
 tion=event&id=100167
CREATED:20220124T202831Z
LAST-MODIFIED:20220124T202831Z
UID:event-100167-albuquerquenmus@intand.com
END:VEVENT
END:VCALENDAR
